Package: snm Version: 1.54.0 Command: /Library/Frameworks/R.framework/Resources/bin/R CMD check --install=check:snm.install-out.txt --library=/Library/Frameworks/R.framework/Resources/library --no-vignettes --timings snm_1.54.0.tar.gz StartedAt: 2025-02-05 10:46:35 -0500 (Wed, 05 Feb 2025) EndedAt: 2025-02-05 10:52:16 -0500 (Wed, 05 Feb 2025) EllapsedTime: 341.7 seconds RetCode: 0 Status: OK CheckDir: snm.Rcheck Warnings: 0