Package: snm Version: 1.54.0 Command: /home/biocbuild/R/R/bin/R CMD INSTALL snm StartedAt: 2024-11-19 20:33:21 -0000 (Tue, 19 Nov 2024) EndedAt: 2024-11-19 20:33:46 -0000 (Tue, 19 Nov 2024) EllapsedTime: 25.3 seconds RetCode: 0 Status: OK