Package: snm Version: 1.54.0 Command: /home/biocbuild/bbs-3.20-bioc/R/bin/R CMD INSTALL snm StartedAt: 2025-02-03 15:17:59 -0500 (Mon, 03 Feb 2025) EndedAt: 2025-02-03 15:18:15 -0500 (Mon, 03 Feb 2025) EllapsedTime: 15.2 seconds RetCode: 0 Status: OK