Package: snm Version: 1.54.0 Command: rm -rf snm.buildbin-libdir && mkdir snm.buildbin-libdir && F:\biocbuild\bbs-3.20-bioc\R\bin\R.exe CMD INSTALL --build --library=snm.buildbin-libdir snm_1.54.0.tar.gz StartedAt: 2025-02-04 09:33:54 -0500 (Tue, 04 Feb 2025) EndedAt: 2025-02-04 09:34:11 -0500 (Tue, 04 Feb 2025) EllapsedTime: 17.3 seconds RetCode: 0 Status: OK PackageFile: snm_1.54.0.zip PackageFileSize: 457.8 KiB