Package: snm Version: 1.54.0 Command: chmod a+r snm -R && F:\biocbuild\bbs-3.20-bioc\R\bin\R.exe CMD build --keep-empty-dirs --no-resave-data snm StartedAt: 2025-02-03 22:15:27 -0500 (Mon, 03 Feb 2025) EndedAt: 2025-02-03 22:17:31 -0500 (Mon, 03 Feb 2025) EllapsedTime: 123.8 seconds RetCode: 0 Status: OK PackageFile: snm_1.54.0.tar.gz PackageFileSize: 567.6 KiB