Package: snm Version: 1.54.0 Command: /home/biocbuild/R/R/bin/R CMD INSTALL snm StartedAt: 2025-02-03 20:27:35 -0000 (Mon, 03 Feb 2025) EndedAt: 2025-02-03 20:27:59 -0000 (Mon, 03 Feb 2025) EllapsedTime: 24.0 seconds RetCode: 0 Status: OK