Package: snpStats Version: 1.56.0 Command: rm -rf snpStats.buildbin-libdir && mkdir snpStats.buildbin-libdir && /Users/biocbuild/BBS/utils/build-universal.sh snpStats_1.56.0.tar.gz /Library/Frameworks/R.framework/Resources/bin/R snpStats.buildbin-libdir StartedAt: 2025-02-05 17:54:18 -0500 (Wed, 05 Feb 2025) EndedAt: 2025-02-05 17:54:42 -0500 (Wed, 05 Feb 2025) EllapsedTime: 23.8 seconds RetCode: 0 Status: OK PackageFile: snpStats_1.56.0.tgz PackageFileSize: 8.501 MiB