Package: snpStats Version: 1.56.0 Command: /Library/Frameworks/R.framework/Resources/bin/R CMD check --install=check:snpStats.install-out.txt --library=/Library/Frameworks/R.framework/Resources/library --no-vignettes --timings snpStats_1.56.0.tar.gz StartedAt: 2025-02-05 10:48:57 -0500 (Wed, 05 Feb 2025) EndedAt: 2025-02-05 10:50:16 -0500 (Wed, 05 Feb 2025) EllapsedTime: 78.5 seconds RetCode: 0 Status: WARNINGS CheckDir: snpStats.Rcheck Warnings: 2