Package: snpStats Version: 1.56.0 Command: /Library/Frameworks/R.framework/Resources/bin/R CMD build --keep-empty-dirs --no-resave-data snpStats StartedAt: 2025-02-10 22:31:02 -0500 (Mon, 10 Feb 2025) EndedAt: 2025-02-10 22:33:34 -0500 (Mon, 10 Feb 2025) EllapsedTime: 152.3 seconds RetCode: 0 Status: OK PackageFile: snpStats_1.56.0.tar.gz PackageFileSize: 7.727 MiB