Package: snpStats Version: 1.56.0 Command: /home/biocbuild/bbs-3.20-bioc/R/bin/R CMD build --keep-empty-dirs --no-resave-data --md5 snpStats StartedAt: 2025-02-03 19:24:08 -0500 (Mon, 03 Feb 2025) EndedAt: 2025-02-03 19:25:10 -0500 (Mon, 03 Feb 2025) EllapsedTime: 62.1 seconds RetCode: 0 Status: OK PackageFile: snpStats_1.56.0.tar.gz PackageFileSize: 7.738 MiB