Package: snpStats Version: 1.56.0 Command: F:\biocbuild\bbs-3.20-bioc\R\bin\R.exe CMD INSTALL snpStats StartedAt: 2025-02-10 16:46:49 -0500 (Mon, 10 Feb 2025) EndedAt: 2025-02-10 16:47:56 -0500 (Mon, 10 Feb 2025) EllapsedTime: 67.5 seconds RetCode: 0 Status: OK