Package: spaSim Version: 1.8.0 Command: rm -rf spaSim.buildbin-libdir && mkdir spaSim.buildbin-libdir && /Users/biocbuild/BBS/utils/build-universal.sh spaSim_1.8.0.tar.gz /Library/Frameworks/R.framework/Resources/bin/R spaSim.buildbin-libdir StartedAt: 2025-02-01 17:00:30 -0500 (Sat, 01 Feb 2025) EndedAt: 2025-02-01 17:01:03 -0500 (Sat, 01 Feb 2025) EllapsedTime: 32.7 seconds RetCode: 0 Status: OK PackageFile: spaSim_1.8.0.tgz PackageFileSize: 3.99 MiB