Package: spaSim Version: 1.8.0 Command: /Library/Frameworks/R.framework/Resources/bin/R CMD INSTALL spaSim StartedAt: 2025-02-03 15:41:12 -0500 (Mon, 03 Feb 2025) EndedAt: 2025-02-03 15:41:28 -0500 (Mon, 03 Feb 2025) EllapsedTime: 15.9 seconds RetCode: 0 Status: OK