Package: spaSim Version: 1.8.0 Command: /Library/Frameworks/R.framework/Resources/bin/R CMD build --keep-empty-dirs --no-resave-data spaSim StartedAt: 2025-02-03 22:31:42 -0500 (Mon, 03 Feb 2025) EndedAt: 2025-02-03 22:36:09 -0500 (Mon, 03 Feb 2025) EllapsedTime: 266.7 seconds RetCode: 0 Status: OK PackageFile: spaSim_1.8.0.tar.gz PackageFileSize: 3.901 MiB