Package: spaSim Version: 1.8.0 Command: /Library/Frameworks/R.framework/Resources/bin/R CMD INSTALL spaSim StartedAt: 2025-01-30 15:29:23 -0500 (Thu, 30 Jan 2025) EndedAt: 2025-01-30 15:30:19 -0500 (Thu, 30 Jan 2025) EllapsedTime: 55.9 seconds RetCode: 0 Status: OK