Package: spaSim Version: 1.8.0 Command: chmod a+r spaSim -R && F:\biocbuild\bbs-3.20-bioc\R\bin\R.exe CMD build --keep-empty-dirs --no-resave-data spaSim StartedAt: 2025-01-30 22:00:32 -0500 (Thu, 30 Jan 2025) EndedAt: 2025-01-30 22:02:57 -0500 (Thu, 30 Jan 2025) EllapsedTime: 144.5 seconds RetCode: 0 Status: OK PackageFile: spaSim_1.8.0.tar.gz PackageFileSize: 1004 KiB