Package: spaSim Version: 1.8.0 Command: /home/biocbuild/R/R/bin/R CMD check --install=check:spaSim.install-out.txt --library=/home/biocbuild/R/R/site-library --no-vignettes --timings spaSim_1.8.0.tar.gz StartedAt: 2025-02-04 11:17:19 -0000 (Tue, 04 Feb 2025) EndedAt: 2025-02-04 11:23:21 -0000 (Tue, 04 Feb 2025) EllapsedTime: 362.4 seconds RetCode: 1 Status: ERROR CheckDir: spaSim.Rcheck Warnings: NA