Package: sparrow Version: 1.12.0 Command: chmod a+r sparrow -R && F:\biocbuild\bbs-3.20-bioc\R\bin\R.exe CMD build --keep-empty-dirs --no-resave-data sparrow StartedAt: 2025-02-10 22:11:47 -0500 (Mon, 10 Feb 2025) EndedAt: 2025-02-10 22:16:23 -0500 (Mon, 10 Feb 2025) EllapsedTime: 275.8 seconds RetCode: 0 Status: OK PackageFile: sparrow_1.12.0.tar.gz PackageFileSize: 3.848 MiB