Package: sparrow Version: 1.12.0 Command: /home/biocbuild/R/R/bin/R CMD INSTALL sparrow StartedAt: 2025-02-10 20:44:42 -0000 (Mon, 10 Feb 2025) EndedAt: 2025-02-10 20:45:21 -0000 (Mon, 10 Feb 2025) EllapsedTime: 38.8 seconds RetCode: 0 Status: OK