Package: sparseMatrixStats Version: 1.18.0 Command: /home/biocbuild/R/R/bin/R CMD build --keep-empty-dirs --no-resave-data sparseMatrixStats StartedAt: 2024-11-20 04:07:13 -0000 (Wed, 20 Nov 2024) EndedAt: 2024-11-20 04:08:03 -0000 (Wed, 20 Nov 2024) EllapsedTime: 49.1 seconds RetCode: 0 Status: OK PackageFile: sparseMatrixStats_1.18.0.tar.gz PackageFileSize: 711.1 KiB