Package: sparseMatrixStats Version: 1.18.0 Command: /Library/Frameworks/R.framework/Resources/bin/R CMD INSTALL sparseMatrixStats StartedAt: 2025-02-03 15:15:43 -0500 (Mon, 03 Feb 2025) EndedAt: 2025-02-03 15:16:16 -0500 (Mon, 03 Feb 2025) EllapsedTime: 33.8 seconds RetCode: 0 Status: OK