Package: sparseMatrixStats Version: 1.18.0 Command: rm -rf sparseMatrixStats.buildbin-libdir && mkdir sparseMatrixStats.buildbin-libdir && F:\biocbuild\bbs-3.20-bioc\R\bin\R.exe CMD INSTALL --build --library=sparseMatrixStats.buildbin-libdir sparseMatrixStats_1.18.0.tar.gz StartedAt: 2025-02-04 09:34:27 -0500 (Tue, 04 Feb 2025) EndedAt: 2025-02-04 09:36:36 -0500 (Tue, 04 Feb 2025) EllapsedTime: 129.7 seconds RetCode: 0 Status: OK PackageFile: sparseMatrixStats_1.18.0.zip PackageFileSize: 1.427 MiB