Package: sparseMatrixStats Version: 1.18.0 Command: chmod a+r sparseMatrixStats -R && F:\biocbuild\bbs-3.20-bioc\R\bin\R.exe CMD build --keep-empty-dirs --no-resave-data sparseMatrixStats StartedAt: 2025-02-03 22:17:32 -0500 (Mon, 03 Feb 2025) EndedAt: 2025-02-03 22:18:28 -0500 (Mon, 03 Feb 2025) EllapsedTime: 55.9 seconds RetCode: 0 Status: OK PackageFile: sparseMatrixStats_1.18.0.tar.gz PackageFileSize: 687.8 KiB