Package: sparsenetgls Version: 1.24.0 Command: /Library/Frameworks/R.framework/Resources/bin/R CMD check --install=check:sparsenetgls.install-out.txt --library=/Library/Frameworks/R.framework/Resources/library --no-vignettes --timings sparsenetgls_1.24.0.tar.gz StartedAt: 2025-02-12 10:16:54 -0500 (Wed, 12 Feb 2025) EndedAt: 2025-02-12 10:18:47 -0500 (Wed, 12 Feb 2025) EllapsedTime: 113.2 seconds RetCode: 0 Status: OK CheckDir: sparsenetgls.Rcheck Warnings: 0