Package: sparsenetgls Version: 1.24.0 Command: /home/biocbuild/R/R/bin/R CMD check --install=check:sparsenetgls.install-out.txt --library=/home/biocbuild/R/R/site-library --no-vignettes --timings sparsenetgls_1.24.0.tar.gz StartedAt: 2025-02-04 11:16:46 -0000 (Tue, 04 Feb 2025) EndedAt: 2025-02-04 11:18:15 -0000 (Tue, 04 Feb 2025) EllapsedTime: 89.1 seconds RetCode: 0 Status: OK CheckDir: sparsenetgls.Rcheck Warnings: 0