Package: spatialHeatmap Version: 2.12.1 Command: rm -rf spatialHeatmap.buildbin-libdir && mkdir spatialHeatmap.buildbin-libdir && /Users/biocbuild/BBS/utils/build-universal.sh spatialHeatmap_2.12.1.tar.gz /Library/Frameworks/R.framework/Resources/bin/R spatialHeatmap.buildbin-libdir StartedAt: 2025-02-05 17:56:17 -0500 (Wed, 05 Feb 2025) EndedAt: 2025-02-05 17:57:18 -0500 (Wed, 05 Feb 2025) EllapsedTime: 61.1 seconds RetCode: 0 Status: OK PackageFile: spatialHeatmap_2.12.1.tgz PackageFileSize: 32.17 MiB