Package: spatialHeatmap Version: 2.12.1 Command: /Library/Frameworks/R.framework/Resources/bin/R CMD build --keep-empty-dirs --no-resave-data spatialHeatmap StartedAt: 2025-02-04 08:51:34 -0500 (Tue, 04 Feb 2025) EndedAt: 2025-02-04 08:58:24 -0500 (Tue, 04 Feb 2025) EllapsedTime: 409.7 seconds RetCode: 0 Status: OK PackageFile: spatialHeatmap_2.12.1.tar.gz PackageFileSize: 32.43 MiB