Package: spatialHeatmap Version: 2.12.0 Command: /home/biocbuild/R/R/bin/R CMD check --install=check:spatialHeatmap.install-out.txt --library=/home/biocbuild/R/R/site-library --no-vignettes --timings spatialHeatmap_2.12.0.tar.gz StartedAt: 2024-11-20 12:44:32 -0000 (Wed, 20 Nov 2024) EndedAt: 2024-11-20 12:53:02 -0000 (Wed, 20 Nov 2024) EllapsedTime: 509.8 seconds RetCode: 0 Status: OK CheckDir: spatialHeatmap.Rcheck Warnings: 0