Package: spatialHeatmap Version: 2.12.1 Command: /Library/Frameworks/R.framework/Resources/bin/R CMD build --keep-empty-dirs --no-resave-data spatialHeatmap StartedAt: 2025-02-03 22:32:32 -0500 (Mon, 03 Feb 2025) EndedAt: 2025-02-03 22:42:34 -0500 (Mon, 03 Feb 2025) EllapsedTime: 602.4 seconds RetCode: 0 Status: OK PackageFile: spatialHeatmap_2.12.1.tar.gz PackageFileSize: 32.41 MiB