Package: spatialHeatmap Version: 2.12.1 Command: /Library/Frameworks/R.framework/Resources/bin/R CMD check --install=check:spatialHeatmap.install-out.txt --library=/Library/Frameworks/R.framework/Resources/library --no-vignettes --timings spatialHeatmap_2.12.1.tar.gz StartedAt: 2025-02-04 10:32:44 -0500 (Tue, 04 Feb 2025) EndedAt: 2025-02-04 10:45:35 -0500 (Tue, 04 Feb 2025) EllapsedTime: 770.9 seconds RetCode: 0 Status: OK CheckDir: spatialHeatmap.Rcheck Warnings: 0