Package: spatialHeatmap Version: 2.12.1 Command: /Library/Frameworks/R.framework/Resources/bin/R CMD INSTALL spatialHeatmap StartedAt: 2025-02-03 16:39:25 -0500 (Mon, 03 Feb 2025) EndedAt: 2025-02-03 16:41:00 -0500 (Mon, 03 Feb 2025) EllapsedTime: 95.1 seconds RetCode: 0 Status: OK