Package: spatialHeatmap Version: 2.12.1 Command: rm -rf spatialHeatmap.buildbin-libdir && mkdir spatialHeatmap.buildbin-libdir && F:\biocbuild\bbs-3.20-bioc\R\bin\R.exe CMD INSTALL --build --library=spatialHeatmap.buildbin-libdir spatialHeatmap_2.12.1.tar.gz StartedAt: 2025-01-31 09:41:35 -0500 (Fri, 31 Jan 2025) EndedAt: 2025-01-31 09:43:54 -0500 (Fri, 31 Jan 2025) EllapsedTime: 138.8 seconds RetCode: 0 Status: OK PackageFile: spatialHeatmap_2.12.1.zip PackageFileSize: 26.73 MiB