Package: spatialHeatmap Version: 2.12.1 Command: F:\biocbuild\bbs-3.20-bioc\R\bin\R.exe CMD INSTALL spatialHeatmap StartedAt: 2025-01-30 16:47:48 -0500 (Thu, 30 Jan 2025) EndedAt: 2025-01-30 16:51:14 -0500 (Thu, 30 Jan 2025) EllapsedTime: 206.2 seconds RetCode: 0 Status: OK