Package: spatialHeatmap Version: 2.12.1 Command: /home/biocbuild/R/R/bin/R CMD check --install=check:spatialHeatmap.install-out.txt --library=/home/biocbuild/R/R/site-library --no-vignettes --timings spatialHeatmap_2.12.1.tar.gz StartedAt: 2025-02-04 11:18:13 -0000 (Tue, 04 Feb 2025) EndedAt: 2025-02-04 11:25:46 -0000 (Tue, 04 Feb 2025) EllapsedTime: 453.5 seconds RetCode: 0 Status: OK CheckDir: spatialHeatmap.Rcheck Warnings: 0