Package: spatialSimGP Version: 1.0.0 Command: rm -rf spatialSimGP.buildbin-libdir && mkdir spatialSimGP.buildbin-libdir && /Users/biocbuild/BBS/utils/build-universal.sh spatialSimGP_1.0.0.tar.gz /Library/Frameworks/R.framework/Resources/bin/R spatialSimGP.buildbin-libdir StartedAt: 2025-02-05 17:56:30 -0500 (Wed, 05 Feb 2025) EndedAt: 2025-02-05 17:56:59 -0500 (Wed, 05 Feb 2025) EllapsedTime: 29.5 seconds RetCode: 0 Status: OK PackageFile: spatialSimGP_1.0.0.tgz PackageFileSize: 744.4 KiB