Package: spatialSimGP Version: 1.0.0 Command: /Library/Frameworks/R.framework/Resources/bin/R CMD INSTALL spatialSimGP StartedAt: 2025-02-03 15:40:46 -0500 (Mon, 03 Feb 2025) EndedAt: 2025-02-03 15:40:59 -0500 (Mon, 03 Feb 2025) EllapsedTime: 12.9 seconds RetCode: 0 Status: OK