Package: spatialSimGP Version: 1.0.0 Command: rm -rf spatialSimGP.buildbin-libdir && mkdir spatialSimGP.buildbin-libdir && /Users/biocbuild/BBS/utils/build-universal.sh spatialSimGP_1.0.0.tar.gz /Library/Frameworks/R.framework/Resources/bin/R spatialSimGP.buildbin-libdir StartedAt: 2025-02-11 14:37:06 -0500 (Tue, 11 Feb 2025) EndedAt: 2025-02-11 14:38:04 -0500 (Tue, 11 Feb 2025) EllapsedTime: 58.6 seconds RetCode: 0 Status: OK PackageFile: spatialSimGP_1.0.0.tgz PackageFileSize: 741.3 KiB