Package: spatialSimGP Version: 1.0.0 Command: /home/biocbuild/bbs-3.20-bioc/R/bin/R CMD build --keep-empty-dirs --no-resave-data --md5 spatialSimGP StartedAt: 2025-02-03 19:26:50 -0500 (Mon, 03 Feb 2025) EndedAt: 2025-02-03 19:27:51 -0500 (Mon, 03 Feb 2025) EllapsedTime: 61.1 seconds RetCode: 0 Status: OK PackageFile: spatialSimGP_1.0.0.tar.gz PackageFileSize: 694.8 KiB