Package: spatialSimGP Version: 1.0.0 Command: /home/biocbuild/R/R/bin/R CMD INSTALL spatialSimGP StartedAt: 2025-02-03 20:35:56 -0000 (Mon, 03 Feb 2025) EndedAt: 2025-02-03 20:36:24 -0000 (Mon, 03 Feb 2025) EllapsedTime: 28.0 seconds RetCode: 0 Status: OK