Package: spatzie Version: 1.12.0 Command: /Library/Frameworks/R.framework/Resources/bin/R CMD build --keep-empty-dirs --no-resave-data spatzie StartedAt: 2025-02-04 08:52:58 -0500 (Tue, 04 Feb 2025) EndedAt: 2025-02-04 08:54:15 -0500 (Tue, 04 Feb 2025) EllapsedTime: 77.5 seconds RetCode: 0 Status: OK PackageFile: spatzie_1.12.0.tar.gz PackageFileSize: 1.884 MiB