Package: spatzie Version: 1.12.0 Command: /Library/Frameworks/R.framework/Resources/bin/R CMD INSTALL spatzie StartedAt: 2025-02-10 16:50:26 -0500 (Mon, 10 Feb 2025) EndedAt: 2025-02-10 16:51:34 -0500 (Mon, 10 Feb 2025) EllapsedTime: 68.2 seconds RetCode: 0 Status: OK