Package: spatzie Version: 1.12.0 Command: /Library/Frameworks/R.framework/Resources/bin/R CMD build --keep-empty-dirs --no-resave-data spatzie StartedAt: 2025-02-03 22:33:19 -0500 (Mon, 03 Feb 2025) EndedAt: 2025-02-03 22:35:30 -0500 (Mon, 03 Feb 2025) EllapsedTime: 131.9 seconds RetCode: 0 Status: OK PackageFile: spatzie_1.12.0.tar.gz PackageFileSize: 1.884 MiB