Package: spatzie Version: 1.12.0 Command: /Library/Frameworks/R.framework/Resources/bin/R CMD check --install=check:spatzie.install-out.txt --library=/Library/Frameworks/R.framework/Resources/library --no-vignettes --timings spatzie_1.12.0.tar.gz StartedAt: 2025-02-04 10:33:13 -0500 (Tue, 04 Feb 2025) EndedAt: 2025-02-04 10:46:20 -0500 (Tue, 04 Feb 2025) EllapsedTime: 786.4 seconds RetCode: 0 Status: OK CheckDir: spatzie.Rcheck Warnings: 0