Package: spatzie Version: 1.12.0 Command: /home/biocbuild/bbs-3.20-bioc/R/bin/R CMD INSTALL spatzie StartedAt: 2025-02-03 15:46:03 -0500 (Mon, 03 Feb 2025) EndedAt: 2025-02-03 15:47:11 -0500 (Mon, 03 Feb 2025) EllapsedTime: 68.3 seconds RetCode: 0 Status: OK