Package: spatzie Version: 1.12.0 Command: /home/biocbuild/R/R/bin/R CMD build --keep-empty-dirs --no-resave-data spatzie StartedAt: 2025-02-11 02:47:54 -0000 (Tue, 11 Feb 2025) EndedAt: 2025-02-11 02:49:03 -0000 (Tue, 11 Feb 2025) EllapsedTime: 69.0 seconds RetCode: 0 Status: OK PackageFile: spatzie_1.12.0.tar.gz PackageFileSize: 1.885 MiB