Package: spatzie Version: 1.12.0 Command: /home/biocbuild/R/R/bin/R CMD check --install=check:spatzie.install-out.txt --library=/home/biocbuild/R/R/site-library --no-vignettes --timings spatzie_1.12.0.tar.gz StartedAt: 2025-02-04 11:18:21 -0000 (Tue, 04 Feb 2025) EndedAt: 2025-02-04 11:26:12 -0000 (Tue, 04 Feb 2025) EllapsedTime: 470.5 seconds RetCode: 0 Status: OK CheckDir: spatzie.Rcheck Warnings: 0