Package: spatzie Version: 1.12.0 Command: /home/biocbuild/R/R/bin/R CMD INSTALL spatzie StartedAt: 2025-02-03 21:00:10 -0000 (Mon, 03 Feb 2025) EndedAt: 2025-02-03 21:01:24 -0000 (Mon, 03 Feb 2025) EllapsedTime: 73.3 seconds RetCode: 0 Status: OK