Package: specL Version: 1.40.0 Command: /Library/Frameworks/R.framework/Resources/bin/R CMD build --keep-empty-dirs --no-resave-data specL StartedAt: 2025-01-31 08:40:19 -0500 (Fri, 31 Jan 2025) EndedAt: 2025-01-31 08:40:46 -0500 (Fri, 31 Jan 2025) EllapsedTime: 27.1 seconds RetCode: 0 Status: OK PackageFile: specL_1.40.0.tar.gz PackageFileSize: 2.057 MiB