Package: specL Version: 1.40.0 Command: /Library/Frameworks/R.framework/Resources/bin/R CMD INSTALL specL StartedAt: 2024-11-08 15:20:15 -0500 (Fri, 08 Nov 2024) EndedAt: 2024-11-08 15:20:18 -0500 (Fri, 08 Nov 2024) EllapsedTime: 2.3 seconds RetCode: 0 Status: OK