Package: specL Version: 1.40.0 Command: F:\biocbuild\bbs-3.20-bioc\R\bin\R.exe CMD INSTALL specL StartedAt: 2025-02-10 15:40:54 -0500 (Mon, 10 Feb 2025) EndedAt: 2025-02-10 15:41:22 -0500 (Mon, 10 Feb 2025) EllapsedTime: 27.4 seconds RetCode: 0 Status: OK